BEGIN:VCALENDAR
VERSION:2.0
PRODID:-//turectina.com - Türkçe ! Hızlı ve kolay ! - ECPv5.9.1//NONSGML v1.0//EN
CALSCALE:GREGORIAN
METHOD:PUBLISH
X-WR-CALNAME:turectina.com - Türkçe ! Hızlı ve kolay !
X-ORIGINAL-URL:https://www.turectina.com
X-WR-CALDESC:Akce na turectina.com - Türkçe ! Hızlı ve kolay !
BEGIN:VTIMEZONE
TZID:Europe/Istanbul
BEGIN:STANDARD
TZOFFSETFROM:+0300
TZOFFSETTO:+0300
TZNAME:+03
DTSTART:20180101T000000
END:STANDARD
END:VTIMEZONE
BEGIN:VEVENT
DTSTART;VALUE=DATE:20180415
DTEND;VALUE=DATE:20180416
DTSTAMP:20260424T113625
CREATED:20180207T151401Z
LAST-MODIFIED:20180513T162715Z
UID:18522-1523750400-1523836799@www.turectina.com
SUMMARY:Intenzivní kurz turečtiny v Bratislavě
DESCRIPTION:Stal se zázrak a nakonec se kurz v Bratislavě uskuteční:)\n\nKurz bude probíhat v centru Bratislavy jednou měsíčně.\nBudeme se setkávat buď v sobotu nebo neděli od 11:00-15:00.\n\n\nKurz bude kombinovaný s online kurzem\, který budete moci využívat během doby\, kdy se neuvidíme.\nV online  kurzu jsou k dispozici videa vysvětlující gramatiku\, mp3\, úkoly atd.\nVíce se dozvíte zde: http://www.turectina.com/a1-online-kurz-turectiny/\n \nJako bonus budete mít také možnost chodit jednou za dva týdny na konverzační lekce s rodilou mluvčí žijící v Bratislavě.\n\n\nKurz se bude konat 15.4/13.5/10.6/8.7\n \nCelková cena kurzu je 200 EUR\n\n\nPokud budete mít zájem prosím vyplňte přihlášku.\n\nNačítání...
URL:https://www.turectina.com/event/intenzivni-kurz-turectiny-v-bratislave/
CATEGORIES:Kurzy turečtiny
ATTACH;FMTTYPE=image/png:https://www.turectina.com/wp-content/uploads/2018/02/kurzBA.png
END:VEVENT
END:VCALENDAR