BEGIN:VCALENDAR
VERSION:2.0
PRODID:-//turectina.com - Türkçe ! Hızlı ve kolay ! - ECPv5.9.1//NONSGML v1.0//EN
CALSCALE:GREGORIAN
METHOD:PUBLISH
X-WR-CALNAME:turectina.com - Türkçe ! Hızlı ve kolay !
X-ORIGINAL-URL:https://www.turectina.com
X-WR-CALDESC:Akce na turectina.com - Türkçe ! Hızlı ve kolay !
BEGIN:VTIMEZONE
TZID:Europe/Istanbul
BEGIN:STANDARD
TZOFFSETFROM:+0300
TZOFFSETTO:+0300
TZNAME:+03
DTSTART:20180101T000000
END:STANDARD
END:VTIMEZONE
BEGIN:VEVENT
DTSTART;TZID=Europe/Istanbul:20180625T080000
DTEND;TZID=Europe/Istanbul:20180901T170000
DTSTAMP:20260420T083816
CREATED:20180420T090330Z
LAST-MODIFIED:20180420T090330Z
UID:19015-1529913600-1535821200@www.turectina.com
SUMMARY:Letní online kurz turečtiny
DESCRIPTION:Letní kurz turečtiny je určen všem začátečníkům\, věčným začátečníkům a těm\, kteří si chtějí znalost turecké gramatiky oživit nebo zopakovat. \nKoncept kurzu je stejný jako A1 kurz turečtiny http://www.turectina.com/a1-online-kurz-turectiny/.\nKurz bude rozšířen o letní slovní zásobu\, tedy o to co budete potřebovat při vaší dovolené v Turecku:)\nHotel\, cestování\, restaurace\, pláž\, seznamování atd. \nCena kurzu: 5 500 Kč\nRegistrace do kurzu: http://www.turectina.com/registration-page/
URL:https://www.turectina.com/event/letni-online-kurz-turectiny/
CATEGORIES:Kurzy turečtiny
ATTACH;FMTTYPE=image/jpeg:https://www.turectina.com/wp-content/uploads/2018/04/letni-online-kurz.jpg
END:VEVENT
END:VCALENDAR